BEGIN:VCALENDAR
VERSION:2.0
PRODID:-//Library Market//iCal Export//EN
BEGIN:VEVENT
SUMMARY:Pride Picnic
UID:75590
DTSTAMP:20260421T132600Z
DTSTART:20260601T203000Z
DTEND:20260601T223000Z
LOCATION:Simsbury Public Library, 725 Hopmeadow St., Simsbury, CT 06070, U
 nited States
ROOM: Friends of the Library Program Room
DESCRIPTION:Join us for a relaxed afternoon picnic! We&#039;ll have hot do
 gs, watermelon, cold beverages, music by Sister Funk, and more. Cosponsor
 ed by Simsbury Public Library, Simsbury Senior Center, Simsbury Social Ser
 vices, and Simsbury Diversity, Equity and Inclusion Council.
URL:https://simsbury.librarycalendar.com/index.php/event/pride-picnic-7559
 0
END:VEVENT
END:VCALENDAR
