BEGIN:VCALENDAR
VERSION:2.0
PRODID:-//Library Market//iCal Export//EN
BEGIN:VEVENT
SUMMARY:Celeste Ng Livestream
UID:81278
DTSTAMP:20260423T224700Z
DTSTART:20260522T133000Z
DTEND:20260522T150000Z
LOCATION:Simsbury Public Library, 725 Hopmeadow St., Simsbury, CT 06070, U
 nited States
ROOM: Friends of the Library Program Room
DESCRIPTION:Join us to watch Celeste Ng&#039;s keynote speech livestreamed
  from Simsbury High School. This is a collaboration with the Simsbury High
  School “Make Us Count” documentary project highlighting Asian America
 n &amp; Pacific Islander experiences. (More information about the project 
 can be found at this link.) Please register for this event. Celeste Ng is
  an acclaimed bestselling author of Everything I Never Told You, Little Fi
 res Everywhere, and Our Missing Hearts. Her work examines the intersection
  of the Asian American experience, family, and culture. Ng&#039;s work is 
 also the recipient of several awards such as the Pushcart Prize, the Alex 
 Award, and the Asian/Pacific American Award for Literature, For more infor
 mation on Celeste Ng, please visit www.prhspeakers.com.   
URL:https://simsbury.librarycalendar.com/event/celestenglivestream
END:VEVENT
END:VCALENDAR
